BEGIN:VCALENDAR
VERSION:2.0
PRODID:-//Tennis Club Frontsadais - ECPv6.15.20//NONSGML v1.0//EN
CALSCALE:GREGORIAN
METHOD:PUBLISH
X-WR-CALNAME:Tennis Club Frontsadais
X-ORIGINAL-URL:https://tci-fronsadais.fr
X-WR-CALDESC:Évènements pour Tennis Club Frontsadais
REFRESH-INTERVAL;VALUE=DURATION:PT1H
X-Robots-Tag:noindex
X-PUBLISHED-TTL:PT1H
BEGIN:VTIMEZONE
TZID:Europe/Paris
BEGIN:DAYLIGHT
TZOFFSETFROM:+0100
TZOFFSETTO:+0200
TZNAME:CEST
DTSTART:20240331T010000
END:DAYLIGHT
BEGIN:STANDARD
TZOFFSETFROM:+0200
TZOFFSETTO:+0100
TZNAME:CET
DTSTART:20241027T010000
END:STANDARD
BEGIN:DAYLIGHT
TZOFFSETFROM:+0100
TZOFFSETTO:+0200
TZNAME:CEST
DTSTART:20250330T010000
END:DAYLIGHT
BEGIN:STANDARD
TZOFFSETFROM:+0200
TZOFFSETTO:+0100
TZNAME:CET
DTSTART:20251026T010000
END:STANDARD
BEGIN:DAYLIGHT
TZOFFSETFROM:+0100
TZOFFSETTO:+0200
TZNAME:CEST
DTSTART:20260329T010000
END:DAYLIGHT
BEGIN:STANDARD
TZOFFSETFROM:+0200
TZOFFSETTO:+0100
TZNAME:CET
DTSTART:20261025T010000
END:STANDARD
END:VTIMEZONE
BEGIN:VEVENT
DTSTART;TZID=Europe/Paris:20250615T190000
DTEND;TZID=Europe/Paris:20250615T213000
DTSTAMP:20260423T205149
CREATED:20250616T095022Z
LAST-MODIFIED:20250616T095022Z
UID:5169-1750014000-1750023000@tci-fronsadais.fr
SUMMARY:Soirée barbecue
DESCRIPTION:
URL:https://tci-fronsadais.fr/event/soiree-barbecue/
CATEGORIES:Soirées
ATTACH;FMTTYPE=image/png:https://tci-fronsadais.fr/wp-content/uploads/2025/06/Unknown.png
END:VEVENT
BEGIN:VEVENT
DTSTART;TZID=Europe/Paris:20250628T180000
DTEND;TZID=Europe/Paris:20250628T213000
DTSTAMP:20260423T205149
CREATED:20250616T094255Z
LAST-MODIFIED:20250616T094255Z
UID:5160-1751133600-1751146200@tci-fronsadais.fr
SUMMARY:Soirée Dégustation de vins et Barbecue
DESCRIPTION:
URL:https://tci-fronsadais.fr/event/soiree-degustation-de-vins-et-barbecue/
CATEGORIES:Soirées
ATTACH;FMTTYPE=image/png:https://tci-fronsadais.fr/wp-content/uploads/2025/06/image-3.png
END:VEVENT
END:VCALENDAR